BEGIN:VCALENDAR
VERSION:2.0
PRODID:-//Talks.cam//talks.cam.ac.uk//
X-WR-CALNAME:Talks.cam
BEGIN:VEVENT
SUMMARY:Title to be confirmed - Speaker to be confirmed
DTSTART:20111212T110000Z
DTEND:20111212T120000Z
UID:TALK32161@talks.cam.ac.uk
CONTACT:Helen Scott
DESCRIPTION:This talk is here just to demonstrate the news feed.  It will 
 go soon.
LOCATION:Venue to be confirmed
END:VEVENT
END:VCALENDAR
