BEGIN:VCALENDAR
VERSION:2.0
PRODID:-//Talks.cam//talks.cam.ac.uk//
X-WR-CALNAME:Talks.cam
BEGIN:VEVENT
SUMMARY:The Larmor Lecture - Professor John Papaloizou\, Department of App
 lied Mathematics and Theoretical Physics University of Cambridge
DTSTART:20111010T163000Z
DTEND:20111010T180000Z
UID:TALK32248@talks.cam.ac.uk
CONTACT:Dr Nigel Bennee
DESCRIPTION:The diversity of extrasolar planetary systems\; Clues to plane
 t formation and migration.
LOCATION:Bristol-Myers Squibb Lecture Theatre\, Department of Chemistry\, 
 Lensfield Road
END:VEVENT
END:VCALENDAR
