BEGIN:VCALENDAR
VERSION:2.0
PRODID:-//Talks.cam//talks.cam.ac.uk//
X-WR-CALNAME:Talks.cam
BEGIN:VEVENT
SUMMARY:The Complex Man - Hayley Whitaker\, CRUK
DTSTART:20110819T150000Z
DTEND:20110819T160000Z
UID:TALK32374@talks.cam.ac.uk
CONTACT:Roland F Schwarz
DESCRIPTION:Abstract not available
LOCATION:215A
END:VEVENT
END:VCALENDAR
