BEGIN:VCALENDAR
VERSION:2.0
PRODID:-//Talks.cam//talks.cam.ac.uk//
X-WR-CALNAME:Talks.cam
BEGIN:VEVENT
SUMMARY:The use of cell lines – promises and pitfalls - Ian Freshney\, C
 ancer Research UK Centre for Oncology and Applied Pharmacology\, Universit
 y of Glasgow
DTSTART:20111025T093000Z
DTEND:20111025T103000Z
UID:TALK32601@talks.cam.ac.uk
CONTACT:Laura Blackburn
DESCRIPTION:In this talk\, Dr Freshney will touch on some of the more prom
 ising aspects of developments in cell culture technology\, but also issue 
 some adivce on their drawbacks and problems. Dr Freshney is the author of 
 the book "Culture of Animal Cells. A manual of basic technique and\nspecia
 lised applications."
LOCATION:Cancer Research UK Cambridge Research Institute\, Lecture Theatre
END:VEVENT
END:VCALENDAR
