BEGIN:VCALENDAR
VERSION:2.0
PRODID:-//Talks.cam//talks.cam.ac.uk//
X-WR-CALNAME:Talks.cam
BEGIN:VEVENT
SUMMARY:Resonant Shattering of Neutron Stars\, sGRB Precursors\, and Neutr
 on Star EOS Constraints - Dave Tsang (Caltech)
DTSTART:20110928T124500Z
DTEND:20110928T131500Z
UID:TALK32614@talks.cam.ac.uk
CONTACT:Mark Gieles
DESCRIPTION:Abstract not available
LOCATION:Sackler Lecture Theatre\, IoA
END:VEVENT
END:VCALENDAR
