BEGIN:VCALENDAR
VERSION:2.0
PRODID:-//Talks.cam//talks.cam.ac.uk//
X-WR-CALNAME:Talks.cam
BEGIN:VEVENT
SUMMARY:The CUED central  computing system - Tim Love (University of Cambr
 idge)
DTSTART:20111014T140000Z
DTEND:20111014T150000Z
UID:TALK32928@talks.cam.ac.uk
CONTACT:Tim Love
DESCRIPTION:New to CUED? New to Linux? Want to know about future developme
 nts? All welcome.\n
LOCATION:LR5\, Engineering\, Department of
END:VEVENT
END:VCALENDAR
