BEGIN:VCALENDAR
VERSION:2.0
PRODID:-//Talks.cam//talks.cam.ac.uk//
X-WR-CALNAME:Talks.cam
BEGIN:VEVENT
SUMMARY:Convicting Galaxies for (Re)Ionization: beyond a reasonable doubt?
  - Stefano Cristiani (INAF\, Trieste)
DTSTART:20111026T121500Z
DTEND:20111026T124500Z
UID:TALK33030@talks.cam.ac.uk
CONTACT:Ben Davies
DESCRIPTION:Abstract not available
LOCATION:Sackler Lecture Theatre\, IoA
END:VEVENT
END:VCALENDAR
