BEGIN:VCALENDAR
VERSION:2.0
PRODID:-//Talks.cam//talks.cam.ac.uk//
X-WR-CALNAME:Talks.cam
BEGIN:VEVENT
SUMMARY:&quot\;How does vaccinia virus induce hypoxia and spread rapidly?&
 quot\; - Professor Geoff Smith\, University of Cambridge\, UK
DTSTART:20111027T110000Z
DTEND:20111027T120000Z
UID:TALK33061@talks.cam.ac.uk
CONTACT:Vanessa Brooks
DESCRIPTION:Abstract not available
LOCATION:Sackler Lecture Theatre\, Level 7\, CIMR\, Addenbrooke’s Hospit
 al
END:VEVENT
END:VCALENDAR
