BEGIN:VCALENDAR
VERSION:2.0
PRODID:-//Talks.cam//talks.cam.ac.uk//
X-WR-CALNAME:Talks.cam
BEGIN:VEVENT
SUMMARY:Jews in the Muslim Court: From the Classical to the Ottoman Period
  - Dr Camilla Adang (Tel-Aviv University)
DTSTART:20111019T160000Z
DTEND:20111019T170000Z
UID:TALK33082@talks.cam.ac.uk
CONTACT:Prof Josef (Yousef) Meri
DESCRIPTION:Abstract not available
LOCATION:Old Common Room\, Wesley House\, Jesus Lane
END:VEVENT
END:VCALENDAR
