BEGIN:VCALENDAR
VERSION:2.0
PRODID:-//Talks.cam//talks.cam.ac.uk//
X-WR-CALNAME:Talks.cam
BEGIN:VEVENT
SUMMARY:Design for environment and risk - Prof David Cebon\, CUED
DTSTART:20111021T133000Z
DTEND:20111021T143000Z
UID:TALK33120@talks.cam.ac.uk
CONTACT:Anna Walczyk
DESCRIPTION:Do engineering enterprises want to save the planet\, or do the
 y have other reasons for being concerned about the environment?\n\nThis ta
 lk will discuss important drivers in design for environment\, particularly
  those concerned with business risk.  It will explain why European environ
 mental regulations are forcing new thinking in product design\, supply cha
 in information management and product stewardship\, across the globe and w
 ill present some software solutions for Eco-Design and restricted substanc
 es information management.
LOCATION:Department of Engineering - LR4
END:VEVENT
END:VCALENDAR
