BEGIN:VCALENDAR
VERSION:2.0
PRODID:-//Talks.cam//talks.cam.ac.uk//
X-WR-CALNAME:Talks.cam
BEGIN:VEVENT
SUMMARY:Signal detection theory - what it is and why you need it - Bob Car
 lyon (MRC Cogntiion &amp\; Brain Sciences Unit)
DTSTART:20111010T150000Z
DTEND:20111010T163000Z
UID:TALK33251@talks.cam.ac.uk
CONTACT:Mandy Carter
DESCRIPTION:Abstract not available
LOCATION:Seminar Room\, MRC Cognition and Brain Sciences\, 15 Chaucer Road
 \, Cambridge
END:VEVENT
END:VCALENDAR
