BEGIN:VCALENDAR
VERSION:2.0
PRODID:-//Talks.cam//talks.cam.ac.uk//
X-WR-CALNAME:Talks.cam
BEGIN:VEVENT
SUMMARY:no talk - Speaker to be confirmed
DTSTART:20111207T100000Z
DTEND:20111207T113000Z
UID:TALK33324@talks.cam.ac.uk
CONTACT:isabel palacios
DESCRIPTION:Abstract not available
LOCATION:first floor
END:VEVENT
END:VCALENDAR
