BEGIN:VCALENDAR
VERSION:2.0
PRODID:-//Talks.cam//talks.cam.ac.uk//
X-WR-CALNAME:Talks.cam
BEGIN:VEVENT
SUMMARY:&quot\;Challenges of bringing new science to bear on global health
  issues&quot\; - Prof Andrew Prentice\, London School of Hygiene and Tropi
 cal Medicine
DTSTART:20111124T164500Z
DTEND:20111124T174500Z
UID:TALK33397@talks.cam.ac.uk
CONTACT:Victoria Bonnici
DESCRIPTION:Abstract not available
LOCATION:Seminar Rooms\, Metabolic Research Labs\, Level 4\, Institute of 
 Metabolic Science
END:VEVENT
END:VCALENDAR
