BEGIN:VCALENDAR
VERSION:2.0
PRODID:-//Talks.cam//talks.cam.ac.uk//
X-WR-CALNAME:Talks.cam
BEGIN:VEVENT
SUMMARY:“Holding back the years”: Understanding why women are becoming
  older first-time mothers. - Irenee Daly (Centre for Family Research\, Uni
 versity of Cambridge)
DTSTART:20111108T130000Z
DTEND:20111108T140000Z
UID:TALK33574@talks.cam.ac.uk
CONTACT:Naomi White
DESCRIPTION:All welcome.
LOCATION:Room 606\, Centre for Family Research
END:VEVENT
END:VCALENDAR
