BEGIN:VCALENDAR
VERSION:2.0
PRODID:-//Talks.cam//talks.cam.ac.uk//
X-WR-CALNAME:Talks.cam
BEGIN:VEVENT
SUMMARY:&quot\;Transparency Creates Values: Corporate Environmental and So
 cial Disclosure in China&quot\; - Speaker to be confirmed
DTSTART:20111008T130000Z
DTEND:20111008T153000Z
UID:TALK33639@talks.cam.ac.uk
CONTACT:18154
DESCRIPTION:*Sustainability Seminar by Dr. Guo Peiyuan*\n\n*When?* Saturda
 y 8 October 2011\, 14:00-16:30\n\n*Where?* Lecture Room LR6\, Engineering 
 Department\, Cambridge\, CB2 1PZ\n\n*Introduction*   \n\nSustainability an
 d CSR reporting\, is a fairly recent trend which has expanded over the las
 t twenty years. Many companies now produce an annual sustainability report
  and there are a wide array of ratings and standards around. There are a v
 ariety of reasons that companies choose to produce these reports\, but at 
 their core they are intended to be "vessels of transparency and accountabi
 lity".\n\nSince 2007\, SynTao has been working with Oxfam Hong Kong on a y
 early research publication\, A Journey to Discover Values\, on the level o
 f disclosure in China’s corporate sustainability reports (or Corporate S
 ocial Responsibility Reports). As the first study to discuss sustainabilit
 y reports in China\, the series of publications have been focusing on corp
 orate sustainability reporting and transparency issues in China\, which ha
 ve been widely circulated.\n\nIn the seminar\, Dr. Guo will introduce the 
 key findings of the study in the past four years and the analysis of Chine
 se companies' sustainability reporting quality and sector-specific compari
 sons. He will also share his views on future trend of sustainability repor
 ting in China. Q & A session is provided for open questions.\n\n*Dr. Guo P
 eiyuan*   \n\nDr. Guo Peiyuan is the co-founder and General Manager of Syn
 Tao Co. Ltd\, a leading consulting firm specialized in Corporate Social Re
 sponsibility (CSR) and Socially Responsible Investment (SRI) in China. He 
 has extensive experiences in CSR\, sustainable financing and corporate env
 ironmental management. He has served clients ranging from private business
 es to state-owned enterprises and multinational corporations. As an active
  advocator and insightful scholar of CSR and SRI\, Dr. Guo has been invite
 d to speak at international conferences at home and abroad in the past few
  years. He was also invited to join the jury committee for some CSR award 
 events in China\, including the CSR Award by China Newsweek\, and the Gold
 en Bee Award by WTO Tribune Magazine.\n\nDr. Guo is also experienced in su
 stainability reporting\, and is the lead author of the high-profile resear
 ch “China Sustainability Reporting Study”. He had led CSR reporting pr
 ojects for LENOVO and NIKE (China). Dr. Guo was invited to sit in the eval
 uation panel for the reports publicized by the Southern China Grid and Chi
 na Steel. He was also a key speaker at the Petro China CSR report launch e
 vent. In addition\, Dr.Guo was just invited to be a senior advisor to DNV 
 China CR Assurance Technical Committee.\nDr. Guo holds a degree in Environ
 mental Engineering and Ph.D in Public Policy both from Tsinghua University
 .\n\n*About SynTao*   \n\nSynTao is a Beijing-based CSR consulting firm th
 at provides services to business clients as well as international organiza
 tions. It was founded in 2005\, and its expertise areas cover CSR manageme
 nt\, CSR reporting\, philanthropic strategy\, and SRI. SynTao is a GRI-cer
 tified training partner. Dr. Guo is a member of GRI Stakeholder Council.
LOCATION:Engineering Department LR6
END:VEVENT
END:VCALENDAR
