BEGIN:VCALENDAR
VERSION:2.0
PRODID:-//Talks.cam//talks.cam.ac.uk//
X-WR-CALNAME:Talks.cam
BEGIN:VEVENT
SUMMARY:Robert Mugabe... what happened? - Simon Bright
DTSTART:20120312T180000Z
DTEND:20120312T200000Z
UID:TALK33773@talks.cam.ac.uk
CONTACT:27734
DESCRIPTION:Due to urgent engagements Sir Richard Dearlove will not be abl
 e to give a talk at this time. Instead Simon Bright will be showing a docu
 mentary about President Robert Mugabe of Zimbabwe.\n\nRSVP at: www.tinyurl
 .com/itsmugabe
LOCATION:Nihon Room\, Pembroke College
END:VEVENT
END:VCALENDAR
