BEGIN:VCALENDAR
VERSION:2.0
PRODID:-//Talks.cam//talks.cam.ac.uk//
X-WR-CALNAME:Talks.cam
BEGIN:VEVENT
SUMMARY:Cambridge Product Management Network - Market Sizing - Garry Avery
 \, Tarigo
DTSTART:20111031T200000Z
DTEND:20111031T220000Z
UID:TALK33841@talks.cam.ac.uk
CONTACT:Cambridge Product Management Network
DESCRIPTION:Garry Avery from "Tarigo":http://www.productmanagementtraining
 .com (Product Management Training and Consultancy) will present on how to 
 size your market correctly.\n\nWe reconvene in the Upstairs room of the Bo
 athouse - the fact that several members have heard Garry speak on this top
 ic and want to hear more bodes well!\n\nWe reconvene in the Upstairs room 
 of the Boathouse - the fact that several members have heard Garry speak on
  this topic and want to hear more bodes well!\n\nWebsite: http://product-m
 anagement.ning.com/events/20111-october-monthly-meeting-market-sizing
LOCATION:Boathouse (Upstairs room)\, 14 Chesterton Road\, Cambridge\, CB4 
 3AX
END:VEVENT
END:VCALENDAR
