BEGIN:VCALENDAR
VERSION:2.0
PRODID:-//Talks.cam//talks.cam.ac.uk//
X-WR-CALNAME:Talks.cam
BEGIN:VEVENT
SUMMARY:Mary and the Jews: Myth and meaning in the medieval Jewish-Christi
 an encounter - Kati Ihnat (Queen Mary\, University of London)
DTSTART:20120201T141500Z
DTEND:20120201T160000Z
UID:TALK33932@talks.cam.ac.uk
CONTACT:Emma Harris
DESCRIPTION:Abstract not available
LOCATION:Faculty of Divinity (West Road)\, Room 2
END:VEVENT
END:VCALENDAR
