BEGIN:VCALENDAR
VERSION:2.0
PRODID:-//Talks.cam//talks.cam.ac.uk//
X-WR-CALNAME:Talks.cam
BEGIN:VEVENT
SUMMARY:Reflections on Jewish-Christian relations today - Archbishop Vince
 nt Nichols
DTSTART:20120208T173000Z
DTEND:20120208T193000Z
UID:TALK33941@talks.cam.ac.uk
CONTACT:Emma Harris
DESCRIPTION:Abstract not available
LOCATION:Garden Room\, St Edmunds College
END:VEVENT
END:VCALENDAR
