BEGIN:VCALENDAR
VERSION:2.0
PRODID:-//Talks.cam//talks.cam.ac.uk//
X-WR-CALNAME:Talks.cam
BEGIN:VEVENT
SUMMARY:“The sociality\, ontogeny\, and function of corvid post-conflict
  affiliation” - Corina Logan (University of Cambridge)
DTSTART:20111123T123000Z
DTEND:20111123T133000Z
UID:TALK33945@talks.cam.ac.uk
CONTACT:Diane Pearce
DESCRIPTION:Abstract not available
LOCATION:Library\, Sub-Department of Animal Behaviour\, Madingley
END:VEVENT
END:VCALENDAR
