BEGIN:VCALENDAR
VERSION:2.0
PRODID:-//Talks.cam//talks.cam.ac.uk//
X-WR-CALNAME:Talks.cam
BEGIN:VEVENT
SUMMARY:CFD for Coal Boilers and Associated Emissions - Dr Ik Soo Kim\, Mi
 tsui-Babcock
DTSTART:20120119T133000Z
DTEND:20120119T143000Z
UID:TALK33967@talks.cam.ac.uk
CONTACT:8442
DESCRIPTION:Abstract not available
LOCATION:Venue to be confirmed
END:VEVENT
END:VCALENDAR
