BEGIN:VCALENDAR
VERSION:2.0
PRODID:-//Talks.cam//talks.cam.ac.uk//
X-WR-CALNAME:Talks.cam
BEGIN:VEVENT
SUMMARY:TBA - Mr Tony Roulstone\, Course Director Nuclear Energy MPhil
DTSTART:20120201T143000Z
DTEND:20120201T153000Z
UID:TALK33973@talks.cam.ac.uk
CONTACT:8442
DESCRIPTION:Abstract not available
LOCATION:Venue to be confirmed
END:VEVENT
END:VCALENDAR
