BEGIN:VCALENDAR
VERSION:2.0
PRODID:-//Talks.cam//talks.cam.ac.uk//
X-WR-CALNAME:Talks.cam
BEGIN:VEVENT
SUMMARY:The Challenges of Cyber Warfare - Prof Sir Mark Welland\, FRS\, Pr
 of Paul Cornish\, and David Smart
DTSTART:20111111T173000Z
DTEND:20111111T190000Z
UID:TALK34077@talks.cam.ac.uk
CONTACT:23437
DESCRIPTION:Speakers:\n* *Sir Mark Welland*\, FRS\, Chief Scientific Advis
 or -  Ministry of Defence\, and the founder of the Nanoscience Centre\, Un
 iversity of Cambridge\n* *Prof Paul Cornish*\, Professor of International 
 Security\, University of Bath\n* *David Smart*\, Associate Fellow\, Royal 
 United Services Institute for Defence and Security Studies\n\nOfficial web
 site: "CONNECTIONS Lecture Series":http://dcsa.dar.cam.ac.uk/info/talks-le
 ctures/connections\n\nPlease register online at: http://dcsa.dar.cam.ac.uk
 /info/talks-lectures/connections/registration
LOCATION:Mill Lane Lecture Room 9
END:VEVENT
END:VCALENDAR
