BEGIN:VCALENDAR
VERSION:2.0
PRODID:-//Talks.cam//talks.cam.ac.uk//
X-WR-CALNAME:Talks.cam
BEGIN:VEVENT
SUMMARY:Coupled magnetic and electric orders in CuO - Professor Andrew Boo
 throyd\, University of Oxford
DTSTART:20111019T100000Z
DTEND:20111019T120000Z
UID:TALK34170@talks.cam.ac.uk
CONTACT:Mr David Taylor
DESCRIPTION:Not available
LOCATION:Mott Seminar Room (531)
END:VEVENT
END:VCALENDAR
