BEGIN:VCALENDAR
VERSION:2.0
PRODID:-//Talks.cam//talks.cam.ac.uk//
X-WR-CALNAME:Talks.cam
BEGIN:VEVENT
SUMMARY:WNA Uranium Resources - Steve Kidd\, Director\, Strategy and Resea
 rch\, World Nuclear Association
DTSTART:20120126T163000Z
DTEND:20120126T180000Z
UID:TALK34234@talks.cam.ac.uk
DESCRIPTION:Abstract not available
LOCATION:Cambridge University Engineering Department\, Lecture Room 4
END:VEVENT
END:VCALENDAR
