BEGIN:VCALENDAR
VERSION:2.0
PRODID:-//Talks.cam//talks.cam.ac.uk//
X-WR-CALNAME:Talks.cam
BEGIN:VEVENT
SUMMARY:Title to be confirmed - Claudio Castelnovo (University of Oxford)
DTSTART:20111102T141500Z
DTEND:20111102T151500Z
UID:TALK34306@talks.cam.ac.uk
CONTACT:Pau Figueras
DESCRIPTION:Abstract not available
LOCATION:MR2\, Centre for Mathematical Sciences
END:VEVENT
END:VCALENDAR
