BEGIN:VCALENDAR
VERSION:2.0
PRODID:-//Talks.cam//talks.cam.ac.uk//
X-WR-CALNAME:Talks.cam
BEGIN:VEVENT
SUMMARY:Drug resistance and disease progression: lessons from prostate can
 cer - Charles Sawyers\, Memorial Sloan Kettering Cancer Centre
DTSTART:20111110T130000Z
DTEND:20111110T140000Z
UID:TALK34337@talks.cam.ac.uk
CONTACT:Laura Blackburn
DESCRIPTION:Abstract not available
LOCATION:Cancer Research UK Cambridge Research Institute\, Lecture Theatre
END:VEVENT
END:VCALENDAR
