BEGIN:VCALENDAR
VERSION:2.0
PRODID:-//Talks.cam//talks.cam.ac.uk//
X-WR-CALNAME:Talks.cam
BEGIN:VEVENT
SUMMARY:After Independence: India and Pakistan - Dr Annamaria Motrescu\, C
 entre of South Asian Studies
DTSTART:20120309T160000Z
DTEND:20120309T170000Z
UID:TALK34355@talks.cam.ac.uk
CONTACT:Dr Annamaria Motrescu-Mayes
DESCRIPTION:How did India and Pakistan feature in films made post Independ
 ence and what were the political agendas that influenced their representat
 ion? This seminar aims to answer these questions and includes a selection 
 of film clips\, photographs and interviews which are discussed in a compar
 ative analysis with the private papers held by the Centre of South Asian S
 tudies.
LOCATION:AV Suite\, Room 211\, 2nd floor\, Alison Richard Building\, 7 Wes
 t Road\, Cambridge
END:VEVENT
END:VCALENDAR
