BEGIN:VCALENDAR
VERSION:2.0
PRODID:-//Talks.cam//talks.cam.ac.uk//
X-WR-CALNAME:Talks.cam
BEGIN:VEVENT
SUMMARY:&quot\;Is God a Scientist?&quot\; - Speaker to be confirmed
DTSTART:20111116T073000Z
DTEND:20111116T093000Z
UID:TALK34440@talks.cam.ac.uk
CONTACT:20997
DESCRIPTION:Abstract not available
LOCATION:Winstanley Lecture Hall\, Trinity College (online map @ http://ww
 w.acs-cam.org.uk/CRSS/venue/venue_CRSS.html)
END:VEVENT
END:VCALENDAR
