BEGIN:VCALENDAR
VERSION:2.0
PRODID:-//Talks.cam//talks.cam.ac.uk//
X-WR-CALNAME:Talks.cam
BEGIN:VEVENT
SUMMARY:Silicon Valley comes to the UK 2011 - Speaker to be confirmed
DTSTART:20111117T160000Z
DTEND:20111117T190000Z
UID:TALK34498@talks.cam.ac.uk
CONTACT:Alexey Bannykh
DESCRIPTION:The Silicon Valley Comes to UK Programme is an invitation only
  series of events that bring together leading Investors\, iconic serial en
 trepreneurs\, ambitious students and successful angels from the UK with le
 ading Silicon Valley Serial Entrepreneurs and Investors to discuss\, debat
 e\, create and fund today's most disruptive internet and green technologie
 s that will change our world in the years to come. The objective is to ins
 pire students and alumni to consider starting or joining an entrepreneuria
 l business at some point after graduation and to foster relationships betw
 een the leading entrepreneurs\, angels and investors from Silicon Valley a
 nd Europe.\n\nAt the 2011 forum\, the movers and shakers from Silicon Vall
 ey will share their views about the new and innovative business models the
 y see as the most disruptive across the 'Gaming and the 'Consumer Internet
 ' sectors. Attendees and sponsors are encouraged to actively participate a
 nd will depart having thoroughly examined the latest in cutting-edge disru
 ptive business models and renewed networking ties with colleagues who are 
 leading the most disruptive entrepreneurial companies in the world.\n\nSpe
 akers include:\nJoi Ito\nCEO of Creative Commons\n \nGreg Joswiak\nVP prod
 uct marketing for Apple\n \nReid Hoffman\nCo-founder of LinkedIn\n \nMegan
  Smith\nVP\, bus dev at Google\nAll events are free and open for registrat
 ion!\nPlease sign up asap!\n\n
LOCATION:please see the website and sign up!
END:VEVENT
END:VCALENDAR
