BEGIN:VCALENDAR
VERSION:2.0
PRODID:-//Talks.cam//talks.cam.ac.uk//
X-WR-CALNAME:Talks.cam
BEGIN:VEVENT
SUMMARY:The search for dark matter - Anne Green (University of Nottingham)
DTSTART:20111116T141500Z
DTEND:20111116T151500Z
UID:TALK34592@talks.cam.ac.uk
CONTACT:Pau Figueras
DESCRIPTION: Diverse astrophysical and cosmological observations indicate 
 that most of the matter in the Universe is cold\, dark and non-baryonic.  
 Weakly Interactive Massive Particles (WIMPs) are generically a good dark m
 atter candidate and particle physics provides us with a well-motivated WIM
 P candidate in the form of the lightest supersymmetric particle. WIMPs can
  be detected indirectly (via the products of their annihilation) or direct
 ly (via elastic scattering in underground detectors).  They can also be pr
 oduced at particle colliders like the LHC. After an introduction to dark m
 atter and WIMPs I will discuss the principles\, current status and future 
 prospects of WIMP detection experiments.
LOCATION:MR2\, Centre for Mathematical Sciences
END:VEVENT
END:VCALENDAR
