BEGIN:VCALENDAR
VERSION:2.0
PRODID:-//Talks.cam//talks.cam.ac.uk//
X-WR-CALNAME:Talks.cam
BEGIN:VEVENT
SUMMARY:Tethyan carbonates: Linking tropical seas and crashing plates to s
 ome of the largest oil and gas fields in the world - Keith Gerdes\, Shell
DTSTART:20120222T163000Z
DTEND:20120222T173000Z
UID:TALK34770@talks.cam.ac.uk
CONTACT:Alex Copley
DESCRIPTION:Abstract not available
LOCATION:Marine/Wolfson Building lecture hall
END:VEVENT
END:VCALENDAR
