BEGIN:VCALENDAR
VERSION:2.0
PRODID:-//Talks.cam//talks.cam.ac.uk//
X-WR-CALNAME:Talks.cam
BEGIN:VEVENT
SUMMARY:&quot\;How reggies/flotillins regulate axon regeneration and growt
 h&quot\; - Professor. Claudia A.O. Stürmer\, Universität Konstanz\, Kons
 tanz Germany
DTSTART:20120307T120000Z
DTEND:20120307T130000Z
UID:TALK35189@talks.cam.ac.uk
CONTACT:Shannon Tinley-Browne
DESCRIPTION:Abstract not available
LOCATION:Brain Repair Centre\, Forvie Site\, Robinson Way
END:VEVENT
END:VCALENDAR
