BEGIN:VCALENDAR
VERSION:2.0
PRODID:-//Talks.cam//talks.cam.ac.uk//
X-WR-CALNAME:Talks.cam
BEGIN:VEVENT
SUMMARY:Bradford University’s Ecoversity journey: barriers and breakthro
 ughs - Peter Hughes\, Centre for Educational Development\, University of B
 radford
DTSTART:20120206T130000Z
DTEND:20120206T140000Z
UID:TALK35468@talks.cam.ac.uk
CONTACT:Dr Rosie Robison
DESCRIPTION:Abstract not available
LOCATION:Michael Ashcroft Building 002 (Anglia Ruskin University\, Chelmsf
 ord Campus)
END:VEVENT
END:VCALENDAR
