BEGIN:VCALENDAR
VERSION:2.0
PRODID:-//Talks.cam//talks.cam.ac.uk//
X-WR-CALNAME:Talks.cam
BEGIN:VEVENT
SUMMARY:A SIMPLE Answer to Refractory Respiratory Failure in Influenza - D
 r Steven Bishop (for Professor David Menon &amp\; the NCCU Team)
DTSTART:20120208T133000Z
DTEND:20120208T140000Z
UID:TALK35611@talks.cam.ac.uk
CONTACT:Faith Rawley
DESCRIPTION:Anaesthesia Presentation\nChair: Dr John Firth
LOCATION:William Harvey Lecture Theatre
END:VEVENT
END:VCALENDAR
