BEGIN:VCALENDAR
VERSION:2.0
PRODID:-//Talks.cam//talks.cam.ac.uk//
X-WR-CALNAME:Talks.cam
BEGIN:VEVENT
SUMMARY:B-Long and B-Yond - Dr Mahesh Prahladan (for Dr David Perry)
DTSTART:20120222T130000Z
DTEND:20120222T133000Z
UID:TALK35613@talks.cam.ac.uk
CONTACT:Faith Rawley
DESCRIPTION:Haematology Presentation\nChair: Professor Fiona Karet
LOCATION:William Harvey Lecture Theatre
END:VEVENT
END:VCALENDAR
