BEGIN:VCALENDAR
VERSION:2.0
PRODID:-//Talks.cam//talks.cam.ac.uk//
X-WR-CALNAME:Talks.cam
BEGIN:VEVENT
SUMMARY:‘An insider look at public policy development' - Dr. Henry Bened
 ict Tam\, Head of Civil Renewal under the Labour Government (2003-2010) an
 d Head of Race Equality under the Coalition Government (2010-2011)\, is no
 w the director of Cambridge University's Forum for Youth Participation &am
 p\; Democracy
DTSTART:20120201T170000Z
DTEND:20120201T183000Z
UID:TALK35879@talks.cam.ac.uk
CONTACT:Dr Jane McGregor
DESCRIPTION:Come and hear how public policy development works\, and why th
 ose interested in shaping youth policy and practices should seek to make t
 heir views count. \n\n\nForum  for Youth Participation & Democracy network
 ing  meeting 6.30-7.30pm. All welcome.\nFind out more about The Forum at\n
 www.educ.cam.ac.uk/research/academicgroups/equality/forumyouthparticipatio
 n/\n\n
LOCATION:Faculty of Education Mary Allen Building (MAB)  Room 104.
END:VEVENT
END:VCALENDAR
