BEGIN:VCALENDAR
VERSION:2.0
PRODID:-//Talks.cam//talks.cam.ac.uk//
X-WR-CALNAME:Talks.cam
BEGIN:VEVENT
SUMMARY:Permutation groups\, Mock modular forms\, K3 surfaces and Moonshin
 e (I) - Harvey\, JA (University of Chicago)
DTSTART:20120126T140000Z
DTEND:20120126T150000Z
UID:TALK35883@talks.cam.ac.uk
CONTACT:Mustapha Amrani
DESCRIPTION:I will discuss connections between sporadic groups and modular
  forms including the original connection between the monster and the modul
 ar function J\, the more recent connections between the Mathieu group M24 
 and the mock modular form appearing in the decomposition of the elliptic g
 enus of K3 surfaces into N=4 characters\, and some work in progress which 
 generalizes this latter connection to other groups and Jacobi forms.\n
LOCATION:Seminar Room 1\, Newton Institute
END:VEVENT
END:VCALENDAR
