BEGIN:VCALENDAR
VERSION:2.0
PRODID:-//Talks.cam//talks.cam.ac.uk//
X-WR-CALNAME:Talks.cam
BEGIN:VEVENT
SUMMARY:Title to be confirmed - David Baillie
DTSTART:20120310T184500Z
DTEND:20120310T000000Z
UID:TALK35897@talks.cam.ac.uk
CONTACT:Ellen Bazeley-White
DESCRIPTION:Lecture 3 will take place at the Scott Centenary Dinner. Pleas
 e see the Friends' Events page for further information.
LOCATION:Trinity House\, London
END:VEVENT
END:VCALENDAR
