BEGIN:VCALENDAR
VERSION:2.0
PRODID:-//Talks.cam//talks.cam.ac.uk//
X-WR-CALNAME:Talks.cam
BEGIN:VEVENT
SUMMARY:Talin domains are required in a variety of ways for Integrin funct
 ion during development - Benjamin Klapholz - Gurdon Institute\, Cambridge
DTSTART:20120313T160000Z
DTEND:20120313T170000Z
UID:TALK35933@talks.cam.ac.uk
CONTACT:Tony Southall
DESCRIPTION:Abstract not available
LOCATION:Gurdon Institute Tea Room
END:VEVENT
END:VCALENDAR
