BEGIN:VCALENDAR
VERSION:2.0
PRODID:-//Talks.cam//talks.cam.ac.uk//
X-WR-CALNAME:Talks.cam
BEGIN:VEVENT
SUMMARY:Baptism and Essence - Christopher J Martin\, Auckland University
DTSTART:20120124T153000Z
DTEND:20120124T170000Z
UID:TALK36046@talks.cam.ac.uk
CONTACT:Prof. Christopher Martin
DESCRIPTION:As in the twentieth century a central concern of twelfth centu
 ry philosophers was the theory of meaning. This seminar will examine the c
 laim that Abaelard anticipated Kripke in rejecting a descriptional account
  of meaning in favour of a causal explanation. Part of a seminar series gi
 ven by Prof Chris Martin and Prof. John Marenbon. Anyone interested is wel
 come to attend.
LOCATION:Board Room\, Faculty of Philosophy
END:VEVENT
END:VCALENDAR
