BEGIN:VCALENDAR
VERSION:2.0
PRODID:-//Talks.cam//talks.cam.ac.uk//
X-WR-CALNAME:Talks.cam
BEGIN:VEVENT
SUMMARY:&quot\;New catalytic reactions designed for the efficient synthesi
 s of natural products&quot\; - Professor Tim Donohue\, Department of Chemi
 stry\, University of Oxford
DTSTART:20120402T160000Z
DTEND:20120402T170000Z
UID:TALK36167@talks.cam.ac.uk
CONTACT:S. Allen
DESCRIPTION:Abstract not available
LOCATION:Wolfson Lecture Theatre\,  Department of Chemistry\, Lensfield Ro
 ad
END:VEVENT
END:VCALENDAR
