BEGIN:VCALENDAR
VERSION:2.0
PRODID:-//Talks.cam//talks.cam.ac.uk//
X-WR-CALNAME:Talks.cam
BEGIN:VEVENT
SUMMARY:‘Political ecology: Meeting travellers along the way’ - Prof. 
 Piers Blaikie\, University of East Anglia
DTSTART:20111101T160000Z
DTEND:20111101T170000Z
UID:TALK36403@talks.cam.ac.uk
CONTACT:kathryn humphries
DESCRIPTION:Abstract not available
LOCATION:Emmanuel college
END:VEVENT
END:VCALENDAR
