BEGIN:VCALENDAR
VERSION:2.0
PRODID:-//Talks.cam//talks.cam.ac.uk//
X-WR-CALNAME:Talks.cam
BEGIN:VEVENT
SUMMARY:M-branes and loop spaces - Saemann\, C (Heriot-Watt University)
DTSTART:20120223T140000Z
DTEND:20120223T150000Z
UID:TALK36594@talks.cam.ac.uk
CONTACT:Mustapha Amrani
DESCRIPTION:I will show how loop space can be used in the description of M
 5-branes. I will focus mainly on the description of self-dual strings as w
 ell as a self-dual string analogue of magnetic bags. I will develop a Nahm
  transform for both cases and construct a number of explicit solutions. I 
 will also show how loop space gives a natural interpretation to a recently
 \nproposed set of N=(2\,0) supersymmetric equations which might describe\n
 M5-branes.\n\n
LOCATION:Seminar Room 1\, Newton Institute
END:VEVENT
END:VCALENDAR
