BEGIN:VCALENDAR
VERSION:2.0
PRODID:-//Talks.cam//talks.cam.ac.uk//
X-WR-CALNAME:Talks.cam
BEGIN:VEVENT
SUMMARY:Adding Integers - Vicky Neale (University of Cambridge)
DTSTART:20120304T160000Z
DTEND:20120304T164500Z
UID:TALK36735@talks.cam.ac.uk
CONTACT:Mary Fortune
DESCRIPTION:There are many fascinating questions that one can ask about ad
 ding integers. Some of these have been answered\, some are open problems\,
  and some have not even been asked yet. A common feature of many of these 
 questions is that they are easy to ask\, yet potentially difficult to answ
 er\, and finding an answer may use tools from a number of areas of mathema
 tics. I shall try to give a flavour of some of the problems that have been
  asked (both answered and unanswered)\, leaving the audience to think of t
 heir own unasked questions.
LOCATION:Winstanley Lecture Theatre\, Trinity College
END:VEVENT
END:VCALENDAR
