BEGIN:VCALENDAR
VERSION:2.0
PRODID:-//Talks.cam//talks.cam.ac.uk//
X-WR-CALNAME:Talks.cam
BEGIN:VEVENT
SUMMARY:TBA - TBA
DTSTART:20120516T131500Z
DTEND:20120516T141500Z
UID:TALK36857@talks.cam.ac.uk
CONTACT:Aleksey Cherman
DESCRIPTION:TBA
LOCATION:MR2\, Centre for Mathematical Sciences
END:VEVENT
END:VCALENDAR
