BEGIN:VCALENDAR
VERSION:2.0
PRODID:-//Talks.cam//talks.cam.ac.uk//
X-WR-CALNAME:Talks.cam
BEGIN:VEVENT
SUMMARY:Novel time series models for the simulation of wind speed fields i
 n GB - Edwards\, G (University of Bath)
DTSTART:20120312T110000Z
DTEND:20120312T113000Z
UID:TALK36878@talks.cam.ac.uk
CONTACT:Mustapha Amrani
DESCRIPTION:2012/03/12
LOCATION:Seminar Room 1\, Newton Institute
END:VEVENT
END:VCALENDAR
