BEGIN:VCALENDAR
VERSION:2.0
PRODID:-//Talks.cam//talks.cam.ac.uk//
X-WR-CALNAME:Talks.cam
BEGIN:VEVENT
SUMMARY:Seeing Red: The Problems with DNACPR Orders - Dr Zoe Fritz (for Dr
  Jonathan Fuld)
DTSTART:20120418T120000Z
DTEND:20120418T123000Z
UID:TALK36923@talks.cam.ac.uk
CONTACT:Faith Rawley
DESCRIPTION:Acute Medicine Presentation\nChair: Professor Sadaf Farooqi
LOCATION:William Harvey Lecture Theatre
END:VEVENT
END:VCALENDAR
