BEGIN:VCALENDAR
VERSION:2.0
PRODID:-//Talks.cam//talks.cam.ac.uk//
X-WR-CALNAME:Talks.cam
BEGIN:VEVENT
SUMMARY:Amplitudes for Fivebranes - Rozali\, M (University of British Colu
 mbia)
DTSTART:20120313T113000Z
DTEND:20120313T123000Z
UID:TALK36937@talks.cam.ac.uk
CONTACT:Mustapha Amrani
DESCRIPTION:We study the complexified three point amplitudes\, the basic b
 uilding blocks for helicity amplitudes\, for various six dimensional super
 symmetric theories. In particular\, we construct the amplitudes for the (2
 \,0) theory\, the worldvolume theory on coincident fivebranes in M theory\
 , and discuss the implications for the dynamics of these mysterious theori
 es.\n
LOCATION:Seminar Room 1\, Newton Institute
END:VEVENT
END:VCALENDAR
