BEGIN:VCALENDAR
VERSION:2.0
PRODID:-//Talks.cam//talks.cam.ac.uk//
X-WR-CALNAME:Talks.cam
BEGIN:VEVENT
SUMMARY:Multiscale simulation of brittle fracture in oxides and semiconduc
 tors - James Kermode (KCL)
DTSTART:20120523T100000Z
DTEND:20120523T104000Z
UID:TALK37047@talks.cam.ac.uk
CONTACT:Dr. Mike Towler
DESCRIPTION:Abstract not available
LOCATION:TCM Seminar Room\, Cavendish Laboratory
END:VEVENT
END:VCALENDAR
